BEGIN:VCALENDAR
VERSION:2.0
PRODID:-//Squarespace Inc/Squarespace 6//v6//EN
BEGIN:VEVENT
UID:5bdbcd42cd8366ac10dda6c8@squarespace.com
DTSTAMP:20181102T040941Z
DTSTART:20181123T140000Z
DTEND:20181123T180000Z
SUMMARY:Practical Tools for Active Startups - Intensive Online Marketing Wo
 rkshop
END:VEVENT
END:VCALENDAR
