BEGIN:VCALENDAR
VERSION:2.0
PRODID:-//Squarespace Inc/Squarespace 6//v6//EN
BEGIN:VEVENT
UID:5bd22c718165f55d69605305@squarespace.com
DTSTAMP:20181025T205257Z
DTSTART:20181102T160000Z
DTEND:20181102T170000Z
SUMMARY:Fireside Chat with George Smith and Geoff Brash
END:VEVENT
END:VCALENDAR
