BEGIN:VCALENDAR
VERSION:2.0
PRODID:-//Squarespace Inc/Squarespace 6//v6//EN
BEGIN:VEVENT
UID:5bbd621f71c10b16ec06c859@squarespace.com
DTSTAMP:20181011T021834Z
DTSTART:20181009T213000Z
DTEND:20181009T233000Z
SUMMARY:Accounting for Startups
GEO:-43.535614;172.639903
LOCATION:Epic Innovation\, 100 Manchester Street\, Christchurch
END:VEVENT
END:VCALENDAR
