BEGIN:VCALENDAR
VERSION:2.0
PRODID:-//Squarespace Inc/Squarespace 6//v6//EN
BEGIN:VEVENT
UID:5bbd60b9e5e5f0f0a6d6e26e@squarespace.com
DTSTAMP:20181010T092046Z
DTSTART:20181025T110000Z
DTEND:20181025T124500Z
SUMMARY:Startup Breakfast Club: Networking 101
END:VEVENT
END:VCALENDAR
