BEGIN:VCALENDAR
VERSION:2.0
PRODID:-//Squarespace Inc/Squarespace 6//v6//EN
BEGIN:VEVENT
UID:5bbd611e652dea175b75fd07@squarespace.com
DTSTAMP:20181011T022710Z
DTSTART:20181025T213000Z
DTEND:20181025T233000Z
SUMMARY:Launch Club: Startup Activation Programme
END:VEVENT
END:VCALENDAR
