BEGIN:VCALENDAR
VERSION:2.0
PRODID:-//Squarespace Inc/Squarespace 6//v6//EN
BEGIN:VEVENT
UID:5bbd65b253450a89a655d943@squarespace.com
DTSTAMP:20181011T022702Z
DTSTART:20181019T123000Z
DTEND:20181019T213000Z
SUMMARY:Gary Vaynerchuck Live
END:VEVENT
END:VCALENDAR
