BEGIN:VCALENDAR
VERSION:2.0
PRODID:-//Squarespace Inc/Squarespace 6//v6//EN
BEGIN:VEVENT
UID:5bbd5d82e5e5f0f0a6d6b95f@squarespace.com
DTSTAMP:20181011T022607Z
DTSTART:20181018T213000Z
DTEND:20181018T233000Z
SUMMARY:Pitch &amp\; Pizza - Oct 2018
END:VEVENT
END:VCALENDAR
