BEGIN:VCALENDAR
VERSION:2.0
PRODID:-//Squarespace Inc/Squarespace 6//v6//EN
BEGIN:VEVENT
UID:5bbd605d8165f5c89850ef8a@squarespace.com
DTSTAMP:20181011T022559Z
DTSTART:20181018T140000Z
DTEND:20181018T210000Z
SUMMARY:Activator Sessions
GEO:-43.539842;172.646741
LOCATION:Kahakura Building\, Ara Institute of Canterbury\, 377 moorhouse av
 enue\, christchurch
END:VEVENT
END:VCALENDAR
