BEGIN:VCALENDAR
VERSION:2.0
PRODID:-//Squarespace Inc/Squarespace 6//v6//EN
BEGIN:VEVENT
UID:5bbd601e1905f4346f6110e2@squarespace.com
DTSTAMP:20181011T022940Z
DTSTART:20181017T113000Z
DTEND:20181017T213000Z
SUMMARY:Christchurch Sales and Marketing Jam
GEO:-43.535263;172.641519
LOCATION:Vodafone\, 213 Tuam Street\, Christchurch\, Canterbury\, 8011\, Ne
 w Zealand
END:VEVENT
END:VCALENDAR
