BEGIN:VCALENDAR
VERSION:2.0
PRODID:-//Squarespace Inc/Squarespace 6//v6//EN
BEGIN:VEVENT
UID:5bbd617715fcc05550a22ce3@squarespace.com
DTSTAMP:20181011T022014Z
DTSTART:20181016T163000Z
DTEND:20181016T173000Z
SUMMARY:Coffee and Jam #272
GEO:-43.535614;172.639903
LOCATION:EPIC Innovation\, 100 Manchester Street\, Christchurch
END:VEVENT
END:VCALENDAR
